BEGIN:VCALENDAR
VERSION:2.0
PRODID:-//Destination Tweed - ECPv4.9.8//NONSGML v1.0//EN
CALSCALE:GREGORIAN
METHOD:PUBLISH
X-WR-CALNAME:Destination Tweed
X-ORIGINAL-URL:https://destinationtweed.com.au
X-WR-CALDESC:Events for Destination Tweed
BEGIN:VTIMEZONE
TZID:UTC
BEGIN:STANDARD
TZOFFSETFROM:+0000
TZOFFSETTO:+0000
TZNAME:UTC
DTSTART:20200101T000000
END:STANDARD
END:VTIMEZONE
BEGIN:VEVENT
DTSTART;TZID="UTC":20200212T160000
DTEND;TZID="UTC":20200212T173000
DTSTAMP:20200227T230515
CREATED:20200115T112417Z
LAST-MODIFIED:20200131T060556Z
UID:7688-1581523200-1581528600@destinationtweed.com.au
SUMMARY:Tweed Culinary Collective Industry Event
DESCRIPTION:Destination Tweed: 2050 Collective offers local food producers\, particularly those with a fermented focus\, the opportunity to showcase your produce to local chefs\, distributors\, and retailers at our pop-up industry event next month. \nThe event will be held at Tropical Fruit World from 4pm-5:30pm (NSW)\, Wednesday 12th February. \nAttendance is FREE but bookings are essential. Reserve your ticket HERE \nWant to display?\nContact Amy (0429 804 890) for more details to showcase your food or beverage products. Or\, simply book your display space HERE \n(Rates differ for DT:2050 Members and Non-Members) \nInterested in becoming a member of DT:2050? Take advantage of our half-price membership!  \n
URL:https://destinationtweed.com.au/event/fermenters-pop-up-industry-event/
LOCATION:Tropical Fruit World – Plantation House\, 13 Duranbah Rd\, Duranbah\, NSW\, 2487\, Australia
ATTACH;FMTTYPE=image/jpeg:https://destinationtweed.com.au/wp-content/uploads/2020/01/PLANTATIONHOUSE-19.jpg
ORGANIZER;CN="Amy%20Colli":MAILTO:amy@destinationtweed.com.au
END:VEVENT
END:VCALENDAR