BEGIN:VCALENDAR
VERSION:2.0
PRODID:-//Destination Tweed - ECPv4.9.8//NONSGML v1.0//EN
CALSCALE:GREGORIAN
METHOD:PUBLISH
X-WR-CALNAME:Destination Tweed
X-ORIGINAL-URL:https://destinationtweed.com.au
X-WR-CALDESC:Events for Destination Tweed
BEGIN:VTIMEZONE
TZID:UTC
BEGIN:STANDARD
TZOFFSETFROM:+0000
TZOFFSETTO:+0000
TZNAME:UTC
DTSTART:20200101T000000
END:STANDARD
END:VTIMEZONE
BEGIN:VEVENT
DTSTART;VALUE=DATE:20200224
DTEND;VALUE=DATE:20200225
DTSTAMP:20200227T231056
CREATED:20200116T045957Z
LAST-MODIFIED:20200116T050027Z
UID:7705-1582502400-1582588799@destinationtweed.com.au
SUMMARY:Greet Your Growers
DESCRIPTION:Greet Your Growers is a seasonal networking event aimed at supporting farmers\, florists and local food producers to connect\, build stronger ties within the community and to improve local distribution. \nIf you’re a grower\, distributor\, retailer or generally have an interest in the local food space\, please attend! \nSave the Date for the next gathering on Monday 24 February.\nThis initiative is co-organised by Destination Tweed:2050 Collective\, Northern Rivers Food\, Young Farmers Connect and Lifeforce Farm. \n
URL:https://destinationtweed.com.au/event/greet-your-growers/
ATTACH;FMTTYPE=image/jpeg:https://destinationtweed.com.au/wp-content/uploads/2020/01/Untitled-1.jpg
ORGANIZER;CN="Amy%20Colli":MAILTO:amy@destinationtweed.com.au
END:VEVENT
END:VCALENDAR