BEGIN:VCALENDAR
VERSION:2.0
PRODID:-//Destination Tweed - ECPv4.9.8//NONSGML v1.0//EN
CALSCALE:GREGORIAN
METHOD:PUBLISH
X-WR-CALNAME:Destination Tweed
X-ORIGINAL-URL:https://destinationtweed.com.au
X-WR-CALDESC:Events for Destination Tweed
BEGIN:VTIMEZONE
TZID:UTC
BEGIN:STANDARD
TZOFFSETFROM:+0000
TZOFFSETTO:+0000
TZNAME:UTC
DTSTART:20190101T000000
END:STANDARD
END:VTIMEZONE
BEGIN:VEVENT
DTSTART;TZID="UTC":20190417T143000
DTEND;TZID="UTC":20190417T163000
DTSTAMP:20200229T103120
CREATED:20190410T224121Z
LAST-MODIFIED:20190414T073002Z
UID:6392-1555511400-1555518600@destinationtweed.com.au
SUMMARY:Meet The Maker
DESCRIPTION:Let’s make the Tweed region famous for food and food experiences\nTo become Australia’s next great food destination and support the growth of a vibrant\, authentic\, innovative\, collaborative farm to plate sector. We want our food businesses to be more profitable\, efficient\, sustainable and collaborative. If you want this for your business and the region then don’t miss out first meet the maker event. \nInterested in a TRADE DISPLAY OPPORTUNITY: Maximise your exposure – book a trade stall to promote your produce or business: We have pop-up trade display area for Tweed Shire food and beverage manufacturers to exhibit produce or offer tasting samples to potential buyers such as food retailers\, chefs and restauranteurs. Nominal fee $25 – $50. \nTRADE displays for producers and suppliers are limited\, please book by 10 April online \nBook Now\nNeed more information? Contact Amy Colli  amy@destinationtweed.com.au \n  \n
URL:https://destinationtweed.com.au/event/meet-the-maker/
LOCATION:Meet The Maker\, Plantation House\, Duranbah Rd\, Duranbah
CATEGORIES:Growth
ATTACH;FMTTYPE=image/jpeg:https://destinationtweed.com.au/wp-content/uploads/2019/04/IMG_9392.jpg
ORGANIZER;CN="Amy%20Colli":MAILTO:amy@destinationtweed.com.au
END:VEVENT
END:VCALENDAR