BEGIN:VCALENDAR
VERSION:2.0
PRODID:-//Destination Tweed - ECPv4.9.8//NONSGML v1.0//EN
CALSCALE:GREGORIAN
METHOD:PUBLISH
X-WR-CALNAME:Destination Tweed
X-ORIGINAL-URL:https://destinationtweed.com.au
X-WR-CALDESC:Events for Destination Tweed
BEGIN:VTIMEZONE
TZID:UTC
BEGIN:STANDARD
TZOFFSETFROM:+0000
TZOFFSETTO:+0000
TZNAME:UTC
DTSTART:20190101T000000
END:STANDARD
END:VTIMEZONE
BEGIN:VEVENT
DTSTART;TZID="UTC":20191021T073000
DTEND;TZID="UTC":20191021T173000
DTSTAMP:20200229T105024
CREATED:20190902T221034Z
LAST-MODIFIED:20190923T225804Z
UID:7305-1571643000-1571679000@destinationtweed.com.au
SUMMARY:Industry Farm Tour and Trade Pop Up Event
DESCRIPTION:Calling all chefs & food businesses .. Experience a behind-the-scenes day in the Tweed\, visiting farms and meet artisan producers. \n\nCHEESES LOVES YOU\nPOCKET HERBS\nHUSK DISTILLERS\nTHE PACKHOUSE @ Tropical Fruit World\n\nFour farms + a food industry event in one day! \nBus departs Brisbane & Gold Coast \n  \nTravel Itinerary\n  \n\n\n\nQLD\nNSW\nLocation\n\n\n7:30am\n\nSouth Brisbane Train Station\n\n\n8:30am\n\nVarsity Lakes Train Station\n\n\n9:30am\n10:30am\nCheeses Loves You – dairy tour & cheese tasting\n\n\n10:30am\n11:30am\nDepart\n\n\n10:35am\n11:35am\nElwood café\n\n\n10:45am\n11:45am\nPocket Herbs – farm tour\n\n\n11:45am\n12:45pm\nDepart\n\n\n12:00pm\n1:00pm\nHusk Distillers – distillery tour & tasting\n\n\n1:00pm\n2:00pm\nDepart\n\n\n1:15pm\n2:15pm\nTropical Fruit World back-of-house Tour\n\n\n2:00pm\n3:00pm\nIndustry Event (Local Producers pop-up trade display at the Packhouse)\n\n\n3:30pm\n4:30pm\nDepart\n\n\n4:15pm\n\nVarsity Lakes Train Station\n\n\n5:30pm\n\nSouth Brisbane Train Station\n\n\n\n  \nBOOK NOW\n
URL:https://destinationtweed.com.au/event/seasonal-industry-tour/
ATTACH;FMTTYPE=image/jpeg:https://destinationtweed.com.au/wp-content/uploads/2019/07/66637697_1308200422670342_9024966757055463424_o-sm.jpg
ORGANIZER;CN="Amy%20Colli":MAILTO:amy@destinationtweed.com.au
END:VEVENT
END:VCALENDAR